BEGIN:VCALENDAR
VERSION:2.0
PRODID:-//Tukios.com/
BEGIN:VEVENT
UID:cc62bed5-1de4-4984-ad06-c2db744bf62d@www.fischerfuneralhome.com
DTSTAMP:20260422T015017Z
DTSTART:20260424T210000Z
DTEND:20260425T000000Z
SUMMARY:Visitation
DESCRIPTION:
URL:https://www.fischerfuneralhome.com/obituaries/darian-atwood
LOCATION:Fischer Funeral Home 412 Main St  Warsaw OH 43844
GEO:40.3339731;-82.0028607
END:VEVENT
END:VCALENDAR