BEGIN:VCALENDAR
VERSION:2.0
PRODID:-//Tukios.com/
BEGIN:VEVENT
UID:bd37d955-ad71-4b5b-8914-2df7e258e9e4@www.fischerfuneralhome.com
DTSTAMP:20260422T015339Z
DTSTART:20260425T180000Z
DTEND:20260425T190000Z
SUMMARY:Funeral Service
DESCRIPTION:
URL:https://www.fischerfuneralhome.com/obituaries/darian-atwood
LOCATION:Fischer Funeral Home 412 Main St  Warsaw OH 43844
GEO:40.3339731;-82.0028607
END:VEVENT
END:VCALENDAR