BEGIN:VCALENDAR
VERSION:2.0
PRODID:-//Tukios.com/
BEGIN:VEVENT
UID:7237067c-5a5f-451c-be28-a8f20fdd7bc0@www.fischerfuneralhome.com
DTSTAMP:20260422T221430Z
DTSTART:20260424T140000Z
DTEND:20260424T150000Z
SUMMARY:Funeral Service
DESCRIPTION:
URL:https://www.fischerfuneralhome.com/obituaries/glenn-conard-nyhart
LOCATION:North Bend Church 24458 Orange Hill Road  Danville OH 43014
GEO:40.504937;-82.30546
END:VEVENT
END:VCALENDAR