BEGIN:VCALENDAR
VERSION:2.0
PRODID:-//Tukios.com/
BEGIN:VEVENT
UID:66874149-02de-484c-bd5a-508f468832de@www.fischerfuneralhome.com
DTSTAMP:20260422T221730Z
DTSTART:20260424
SUMMARY:Burial
DESCRIPTION:
URL:https://www.fischerfuneralhome.com/obituaries/glenn-conard-nyhart
LOCATION:Wesley Chapel Cemetery 18975 Chapel Road  Danville OH 43014
GEO:40.50238;-82.259352
END:VEVENT
END:VCALENDAR